BEGIN:VCALENDAR
VERSION:2.0
PRODID:-//Muskoday First Nation - ECPv6.14.0//NONSGML v1.0//EN
CALSCALE:GREGORIAN
METHOD:PUBLISH
X-WR-CALNAME:Muskoday First Nation
X-ORIGINAL-URL:https://muskodayfn.ca
X-WR-CALDESC:Events for Muskoday First Nation
REFRESH-INTERVAL;VALUE=DURATION:PT1H
X-Robots-Tag:noindex
X-PUBLISHED-TTL:PT1H
BEGIN:VTIMEZONE
TZID:America/Regina
BEGIN:STANDARD
TZOFFSETFROM:-0600
TZOFFSETTO:-0600
TZNAME:CST
DTSTART:20240101T000000
END:STANDARD
END:VTIMEZONE
BEGIN:VEVENT
DTSTART;TZID=America/Regina:20240528T090000
DTEND;TZID=America/Regina:20240601T170000
DTSTAMP:20260419T055625
CREATED:20240404T150233Z
LAST-MODIFIED:20240404T150233Z
UID:1442-1716886800-1717261200@muskodayfn.ca
SUMMARY:Muskoday Arts Festival 2024
DESCRIPTION:MFNCS Arts Festival Info
URL:https://muskodayfn.ca/event/muskoday-arts-festival-2024/
LOCATION:MFN Community School
CATEGORIES:Culture
ORGANIZER;CN="Liza Brown":MAILTO:lbrown@mfncs.org
END:VEVENT
BEGIN:VEVENT
DTSTART;TZID=America/Regina:20240602T163000
DTEND;TZID=America/Regina:20240602T163000
DTSTAMP:20260419T055625
CREATED:20240523T155743Z
LAST-MODIFIED:20240523T161528Z
UID:1613-1717345800-1717345800@muskodayfn.ca
SUMMARY:Apply Date:  Heavy Duty Machine Operator/Laborer
DESCRIPTION:24-06-02 Heavy Duty Equipment Operator
URL:https://muskodayfn.ca/event/apply-date-machine-operator-laborer/
LOCATION:Saskatchewan
CATEGORIES:Employment
END:VEVENT
BEGIN:VEVENT
DTSTART;TZID=America/Regina:20240610T163000
DTEND;TZID=America/Regina:20240610T163000
DTSTAMP:20260419T055625
CREATED:20240430T173255Z
LAST-MODIFIED:20240430T174728Z
UID:1583-1718037000-1718037000@muskodayfn.ca
SUMMARY:Apply Date: Summer Student Employment
DESCRIPTION:24-06-10 Summer Student Employment
URL:https://muskodayfn.ca/event/summer-student-employment/
LOCATION:Saskatchewan
CATEGORIES:Employment
END:VEVENT
BEGIN:VEVENT
DTSTART;TZID=America/Regina:20240611T163000
DTEND;TZID=America/Regina:20240611T163000
DTSTAMP:20260419T055625
CREATED:20240430T173850Z
LAST-MODIFIED:20240430T174803Z
UID:1586-1718123400-1718123400@muskodayfn.ca
SUMMARY:Apply Date: Post Secondary Summer Students
DESCRIPTION:24-06-11 Post Secondary Summer Students
URL:https://muskodayfn.ca/event/post-secondary-summer-students/
LOCATION:Saskatchewan
END:VEVENT
BEGIN:VEVENT
DTSTART;TZID=America/Regina:20240619T090000
DTEND;TZID=America/Regina:20240619T150000
DTSTAMP:20260419T055625
CREATED:20240619T012013Z
LAST-MODIFIED:20240619T012013Z
UID:1702-1718787600-1718809200@muskodayfn.ca
SUMMARY:Aboriginal Day & Non Violence Elimination Day
DESCRIPTION:24-06-19 Aboriginal Day – Non Violence Elimination Day
URL:https://muskodayfn.ca/event/aboriginal-day-non-violence-elimination-day/
LOCATION:MFN Comm. Health Centre\, P.O. Box 40\, Muskoday\, Saskatchewan\, S0J 3H0\, Canada
ORGANIZER;CN="Shelby Bonik":MAILTO:shelby.bonik@muskodayfn.ca
END:VEVENT
BEGIN:VEVENT
DTSTART;TZID=America/Regina:20240619T163000
DTEND;TZID=America/Regina:20240619T163000
DTSTAMP:20260419T055625
CREATED:20240610T203206Z
LAST-MODIFIED:20240610T203206Z
UID:1656-1718814600-1718814600@muskodayfn.ca
SUMMARY:Apply Date:  Community Support Worker
DESCRIPTION:24-06-19-Community-Support-Worker
URL:https://muskodayfn.ca/event/apply-date-community-support-worker/
LOCATION:Saskatchewan
END:VEVENT
BEGIN:VEVENT
DTSTART;TZID=America/Regina:20240619T163000
DTEND;TZID=America/Regina:20240619T163000
DTSTAMP:20260419T055625
CREATED:20240610T235954Z
LAST-MODIFIED:20240610T235954Z
UID:1662-1718814600-1718814600@muskodayfn.ca
SUMMARY:Apply Date:  F/T Daycare Cook
DESCRIPTION:24-06-19-Full-time-Cook-daycare
URL:https://muskodayfn.ca/event/apply-date-f-t-daycare-cook/
LOCATION:Saskatchewan
CATEGORIES:Employment
END:VEVENT
BEGIN:VEVENT
DTSTART;TZID=America/Regina:20240619T163000
DTEND;TZID=America/Regina:20240619T163000
DTSTAMP:20260419T055625
CREATED:20240613T220518Z
LAST-MODIFIED:20240613T220518Z
UID:1688-1718814600-1718814600@muskodayfn.ca
SUMMARY:Apply Date: Powwow Committee Members
DESCRIPTION:24-06-19-Positions-Pow-Wow-Committee
URL:https://muskodayfn.ca/event/apply-date-powwow-committee-members/
LOCATION:Saskatchewan
CATEGORIES:Committees & Advisory Boards
END:VEVENT
BEGIN:VEVENT
DTSTART;TZID=America/Regina:20240626T160000
DTEND;TZID=America/Regina:20240626T180000
DTSTAMP:20260419T055625
CREATED:20240617T162436Z
LAST-MODIFIED:20240625T171122Z
UID:1698-1719417600-1719424800@muskodayfn.ca
SUMMARY:POSTPONED - Wills & Estates Program - Workshop 2
DESCRIPTION:
URL:https://muskodayfn.ca/event/wills-estates-program-workshop-2/
LOCATION:Muskoday Band Hall\, Muskoday\, Saskatchewan
ORGANIZER;CN="Angie Bear":MAILTO:angela.bear@muskodayfn.ca
END:VEVENT
BEGIN:VEVENT
DTSTART;TZID=America/Regina:20240628T163000
DTEND;TZID=America/Regina:20240628T163000
DTSTAMP:20260419T055625
CREATED:20240614T145919Z
LAST-MODIFIED:20240614T145941Z
UID:1696-1719592200-1719592200@muskodayfn.ca
SUMMARY:Apply Date:  F/T Food Security Coordinator
DESCRIPTION:24-06-28-Food-Security-Coordinator
URL:https://muskodayfn.ca/event/apply-date-f-t-food-security-coordinator/
LOCATION:Saskatchewan
CATEGORIES:Employment
END:VEVENT
BEGIN:VEVENT
DTSTART;TZID=America/Regina:20240630T163000
DTEND;TZID=America/Regina:20240630T163000
DTSTAMP:20260419T055625
CREATED:20240523T154327Z
LAST-MODIFIED:20240613T220137Z
UID:1607-1719765000-1719765000@muskodayfn.ca
SUMMARY:Open until Filled: Daycare/Headstart Committee Members
DESCRIPTION:Posting Daycare committee
URL:https://muskodayfn.ca/event/apply-date-daycare-headstart-committee-members/
LOCATION:Saskatchewan
CATEGORIES:Committees & Advisory Boards
END:VEVENT
BEGIN:VEVENT
DTSTART;TZID=America/Regina:20240630T163000
DTEND;TZID=America/Regina:20240630T163000
DTSTAMP:20260419T055625
CREATED:20240523T155026Z
LAST-MODIFIED:20240613T215837Z
UID:1610-1719765000-1719765000@muskodayfn.ca
SUMMARY:Open until Filled:  Finance and Audit Commitee Member(s)
DESCRIPTION:Posting Financial Audit Committee
URL:https://muskodayfn.ca/event/apply-date-finance-and-audit-commitee-members/
LOCATION:Saskatchewan
CATEGORIES:Committees & Advisory Boards
END:VEVENT
BEGIN:VEVENT
DTSTART;TZID=America/Regina:20240630T163000
DTEND;TZID=America/Regina:20240630T163000
DTSTAMP:20260419T055625
CREATED:20240523T161311Z
LAST-MODIFIED:20240613T215914Z
UID:1616-1719765000-1719765000@muskodayfn.ca
SUMMARY:Open until Filled:  Human Resources Committee Member(s)
DESCRIPTION:Posting Human Resources Committee
URL:https://muskodayfn.ca/event/apply-date-human-resources-committee-members/
LOCATION:Saskatchewan
CATEGORIES:Committees & Advisory Boards
END:VEVENT
END:VCALENDAR